BEGIN:VCALENDAR
VERSION:2.0
PRODID:-//Schillinghaus - ECPv6.15.1.1//NONSGML v1.0//EN
CALSCALE:GREGORIAN
METHOD:PUBLISH
X-WR-CALNAME:Schillinghaus
X-ORIGINAL-URL:https://www.schillinghausmuenster.com
X-WR-CALDESC:Events for Schillinghaus
REFRESH-INTERVAL;VALUE=DURATION:PT1H
X-Robots-Tag:noindex
X-PUBLISHED-TTL:PT1H
BEGIN:VTIMEZONE
TZID:UTC
BEGIN:STANDARD
TZOFFSETFROM:+0000
TZOFFSETTO:+0000
TZNAME:UTC
DTSTART:20230101T000000
END:STANDARD
END:VTIMEZONE
BEGIN:VEVENT
DTSTART;VALUE=DATE:20240426
DTEND;VALUE=DATE:20240429
DTSTAMP:20260423T165019
CREATED:20231116T225005Z
LAST-MODIFIED:20231116T225005Z
UID:3986-1714089600-1714348799@www.schillinghausmuenster.com
SUMMARY:2024 GERMANFEST
DESCRIPTION:Wilkommen to the annual Germanfest\, sponsored by the Muenster Chamber of Commerce.  Muenster was founded in 1889 by people of German heritage and Catholic faith.  This unique German community located in North Texas is a close-knit family in both kinship and kindred spirit. \nThis family throws one of the beiggest parties in Texas\, GERMANFEST\, the last full weened in April. \nYou can find all the details at www.muensterchamber.com
URL:https://www.schillinghausmuenster.com/event/2024-germanfest/
LOCATION:HERITAGE PARK\, 301 N ASH ST.\, MUENSTER\, TX\, 76252\, United States
ORGANIZER;CN="Muenster Chamber of Commerce":MAILTO:chamber@ntin.net
END:VEVENT
BEGIN:VEVENT
DTSTART;TZID=UTC:20231223T130000
DTEND;TZID=UTC:20231223T170000
DTSTAMP:20260423T165019
CREATED:20231116T225859Z
LAST-MODIFIED:20231116T225859Z
UID:3999-1703336400-1703350800@www.schillinghausmuenster.com
SUMMARY:LIVE MUSIC at the BLUE OSTRICH
DESCRIPTION:
URL:https://www.schillinghausmuenster.com/event/live-music-at-the-blue-ostrich-2/
LOCATION:BLUE OSTRICH WINERY\, 5611 FM2382\, St Jo\, TX 76265\, SAINT JO\, TX\, 76252\, United States
END:VEVENT
BEGIN:VEVENT
DTSTART;TZID=UTC:20231216T130000
DTEND;TZID=UTC:20231216T170000
DTSTAMP:20260423T165019
CREATED:20231116T225948Z
LAST-MODIFIED:20231116T225948Z
UID:4004-1702731600-1702746000@www.schillinghausmuenster.com
SUMMARY:LIVE MUSIC at the BLUE OSTRICH
DESCRIPTION:
URL:https://www.schillinghausmuenster.com/event/live-music-at-the-blue-ostrich-3/
LOCATION:BLUE OSTRICH WINERY\, 5611 FM2382\, St Jo\, TX 76265\, SAINT JO\, TX\, 76252\, United States
END:VEVENT
BEGIN:VEVENT
DTSTART;TZID=UTC:20231209T100000
DTEND;TZID=UTC:20231209T170000
DTSTAMP:20260423T165019
CREATED:20231116T224952Z
LAST-MODIFIED:20231116T225050Z
UID:3980-1702116000-1702141200@www.schillinghausmuenster.com
SUMMARY:Winter Wonderland
DESCRIPTION:WINTER WONDERLAND for the KIDDOS!
URL:https://www.schillinghausmuenster.com/event/winter-wonderland/
LOCATION:HERITAGE PARK\, 301 N ASH ST.\, MUENSTER\, TX\, 76252\, United States
ATTACH;FMTTYPE=image/png:https://www.schillinghausmuenster.com/wp-content/uploads/2023/11/Screen-Shot-2023-11-13-at-7.20.25-PM.png
END:VEVENT
BEGIN:VEVENT
DTSTART;TZID=UTC:20231202T130000
DTEND;TZID=UTC:20231202T170000
DTSTAMP:20260423T165019
CREATED:20231116T225626Z
LAST-MODIFIED:20231116T225626Z
UID:3993-1701522000-1701536400@www.schillinghausmuenster.com
SUMMARY:Live Music at the Blue Ostrich
DESCRIPTION:
URL:https://www.schillinghausmuenster.com/event/live-music-at-the-blue-ostrich/
LOCATION:BLUE OSTRICH WINERY\, 5611 FM2382\, St Jo\, TX 76265\, SAINT JO\, TX\, 76252\, United States
END:VEVENT
BEGIN:VEVENT
DTSTART;TZID=UTC:20231201T080000
DTEND;TZID=UTC:20231216T170000
DTSTAMP:20260423T165019
CREATED:20231116T231008Z
LAST-MODIFIED:20231116T231008Z
UID:4007-1701417600-1702746000@www.schillinghausmuenster.com
SUMMARY:WINSTAR CASINO DECEMBER CONCERTS
DESCRIPTION:Please check the Winstar Casino website for tickets & details. \nDecember 1\, 2023 – Travis Tritt & Pat Green \nDecember 2\, 2023 – Tim McGraw \nDecember 8\, 2023 – Adam Sandler \nDecember 9\, 2023 – Ryan Bingham with the Texas Gentleman \nDecember 14\, 2023 – Randy Rogers Band \nDecember 15\, 2023 – Kevin Hart and Friends
URL:https://www.schillinghausmuenster.com/event/winstar-casino-december-concerts/
LOCATION:Winstar Casino\, 777 Casino Ave\, Thackerville\, OK\, 73459\, United States
END:VEVENT
BEGIN:VEVENT
DTSTART;TZID=UTC:20231126T180000
DTEND;TZID=UTC:20231126T220000
DTSTAMP:20260423T165019
CREATED:20231104T213451Z
LAST-MODIFIED:20231104T213451Z
UID:3936-1701021600-1701036000@www.schillinghausmuenster.com
SUMMARY:The Annual Lighted Christmas Parade
DESCRIPTION:Every year after Thanksgiving while our families are together we have a wine stroll during the day and at dusk our Main Street transforms into something you would see on a Hallmark movie. \nFamilies line up on both sides of Main Street from Muenster State Bank all the way up to Sacred Heart Church – as the parade makes its way down Main with the most creative ways to express their good cheer\, families smile\, wave and stand in awe! \nHope you will join us as we commence the Christmas season at Christmas in a small town.
URL:https://www.schillinghausmuenster.com/event/the-annual-lighted-christmas-parade/
LOCATION:Christmas Parade\, 201 Main Street\, Muenster\, TX\, 76252\, United States
ATTACH;FMTTYPE=image/png:https://www.schillinghausmuenster.com/wp-content/uploads/2023/11/Christmas-Parade-Muenster-Chamber-of-Commerce.png
ORGANIZER;CN="Muenster Chamber of Commerce":MAILTO:chamber@ntin.net
END:VEVENT
END:VCALENDAR